BEGIN:VCALENDAR
VERSION:2.0
PRODID:-//wp-events-plugin.com//7.2.3.1//EN
TZID:America/New_York
X-WR-TIMEZONE:America/New_York
BEGIN:VEVENT
UID:476@torat-el.org
DTSTART;TZID=America/New_York:20260521T183000
DTEND;TZID=America/New_York:20260521T213000
DTSTAMP:20260325T152332Z
URL:https://www.torat-el.org/events/shavuot-pasta-dinner-tikkun-2/
SUMMARY:Shavuot Pasta Dinner & Tikkun
DESCRIPTION:Join us for a delicious pasta dinner accompanied by salad\, gar
 lic bread and of course....CHEESE CAKE!!\n\n&nbsp\;\nTikkun: Scribal Error
 s\, Instructions &amp\; Decorations — What Does the Talmud Prescribe?\nW
 hen it comes to the precise letters and writing of a Torah scroll\, or eve
 n smaller sacred texts\, such as those found in a mezuzah or tefillin\, th
 e Talmud offers a wealth of insight.\nExploring a fascinating digression i
 n Tractate Menahot\, Rabbi Schonbrun will share some teachings about some 
 of our most sacred ritual items. Join him to study a range of scribal topi
 cs\, including the decorative crowns on certain Torah letters\, detailed i
 nstructions for writing a Torah\, guidelines for correcting scribal errors
  or repairing damaged Torah scrolls\, as well as a discussion of the ancie
 nt practice of affixing a mezuzah to our doorposts.\nOn this holiday\, whe
 n the Torah is at the center of our focus\, join Rabbi Schonbrun for a lit
 eral closer look at the text of our people.\nThere is no charge for this p
 rogram but your reservations are requested for planning purposes.
ATTACH;FMTTYPE=image/jpeg:https://www.torat-el.org/wp-content/uploads/2026
 /03/shavuot-3.png
CATEGORIES:Congregation Torat El,Featured Events
LOCATION:Congregation Torat El\, 301 Monmouth Road\, Oakhurst\, NJ\, 07755\
 , United States
X-APPLE-STRUCTURED-LOCATION;VALUE=URI;X-ADDRESS=301 Monmouth Road\, Oakhurs
 t\, NJ\, 07755\, United States;X-APPLE-RADIUS=100;X-TITLE=Congregation Tor
 at El:geo:0,0
END:VEVENT
BEGIN:VTIMEZONE
TZID:America/New_York
X-LIC-LOCATION:America/New_York
BEGIN:DAYLIGHT
DTSTART:20260308T030000
TZOFFSETFROM:-0500
TZOFFSETTO:-0400
TZNAME:EDT
END:DAYLIGHT
END:VTIMEZONE
END:VCALENDAR